BEGIN:VCALENDAR
VERSION:2.0
PRODID:-//Leadership Fort Worth - ECPv6.15.20//NONSGML v1.0//EN
CALSCALE:GREGORIAN
METHOD:PUBLISH
X-ORIGINAL-URL:https://leadershipfortworth.org
X-WR-CALDESC:Events for Leadership Fort Worth
REFRESH-INTERVAL;VALUE=DURATION:PT1H
X-Robots-Tag:noindex
X-PUBLISHED-TTL:PT1H
BEGIN:VTIMEZONE
TZID:America/Chicago
BEGIN:DAYLIGHT
TZOFFSETFROM:-0600
TZOFFSETTO:-0500
TZNAME:CDT
DTSTART:20210314T080000
END:DAYLIGHT
BEGIN:STANDARD
TZOFFSETFROM:-0500
TZOFFSETTO:-0600
TZNAME:CST
DTSTART:20211107T070000
END:STANDARD
BEGIN:DAYLIGHT
TZOFFSETFROM:-0600
TZOFFSETTO:-0500
TZNAME:CDT
DTSTART:20220313T080000
END:DAYLIGHT
BEGIN:STANDARD
TZOFFSETFROM:-0500
TZOFFSETTO:-0600
TZNAME:CST
DTSTART:20221106T070000
END:STANDARD
BEGIN:DAYLIGHT
TZOFFSETFROM:-0600
TZOFFSETTO:-0500
TZNAME:CDT
DTSTART:20230312T080000
END:DAYLIGHT
BEGIN:STANDARD
TZOFFSETFROM:-0500
TZOFFSETTO:-0600
TZNAME:CST
DTSTART:20231105T070000
END:STANDARD
BEGIN:DAYLIGHT
TZOFFSETFROM:-0600
TZOFFSETTO:-0500
TZNAME:CDT
DTSTART:20240310T080000
END:DAYLIGHT
BEGIN:STANDARD
TZOFFSETFROM:-0500
TZOFFSETTO:-0600
TZNAME:CST
DTSTART:20241103T070000
END:STANDARD
END:VTIMEZONE
BEGIN:VEVENT
DTSTART;TZID=America/Chicago:20231225T120000
DTEND;TZID=America/Chicago:20231225T133000
DTSTAMP:20260421T074620
CREATED:20220623T072105Z
LAST-MODIFIED:20220719T204031Z
UID:10000003-1703505600-1703511000@leadershipfortworth.org
SUMMARY:Executive Committee Meeting
DESCRIPTION:
URL:https://leadershipfortworth.org/event/executive-committee-meeting-10
LOCATION:Leadership Fort Worth\, Clearfork\, 5049 Edwards Ranch Rd\, Fort Worth\, TX\, 76109\, United States
CATEGORIES:Executive Committee
ATTACH;FMTTYPE=image/png:https://leadershipfortworth.org/wp-content/uploads/2022/06/2.png
END:VEVENT
BEGIN:VEVENT
DTSTART;TZID=America/Chicago:20231023T120000
DTEND;TZID=America/Chicago:20231023T133000
DTSTAMP:20260421T074620
CREATED:20220623T065259Z
LAST-MODIFIED:20220719T204155Z
UID:10000006-1698062400-1698067800@leadershipfortworth.org
SUMMARY:Executive Committee Meeting
DESCRIPTION:
URL:https://leadershipfortworth.org/event/executive-committee-meeting-9
LOCATION:Leadership Fort Worth\, Clearfork\, 5049 Edwards Ranch Rd\, Fort Worth\, TX\, 76109\, United States
CATEGORIES:Executive Committee
ATTACH;FMTTYPE=image/png:https://leadershipfortworth.org/wp-content/uploads/2022/06/2.png
END:VEVENT
BEGIN:VEVENT
DTSTART;TZID=America/Chicago:20230828T080000
DTEND;TZID=America/Chicago:20230828T170000
DTSTAMP:20260421T074620
CREATED:20220623T064641Z
LAST-MODIFIED:20220719T203538Z
UID:10000037-1693209600-1693242000@leadershipfortworth.org
SUMMARY:Executive Committee Meeting
DESCRIPTION:
URL:https://leadershipfortworth.org/event/executive-committee-meeting-8
LOCATION:Leadership Fort Worth\, Clearfork\, 5049 Edwards Ranch Rd\, Fort Worth\, TX\, 76109\, United States
CATEGORIES:Executive Committee
ATTACH;FMTTYPE=image/png:https://leadershipfortworth.org/wp-content/uploads/2022/06/2.png
END:VEVENT
BEGIN:VEVENT
DTSTART;TZID=America/Chicago:20230626T120000
DTEND;TZID=America/Chicago:20230626T133000
DTSTAMP:20260421T074620
CREATED:20220623T063938Z
LAST-MODIFIED:20220719T203650Z
UID:10000024-1687780800-1687786200@leadershipfortworth.org
SUMMARY:Executive Committee Meeting
DESCRIPTION:
URL:https://leadershipfortworth.org/event/executive-committee-meeting-7
LOCATION:Leadership Fort Worth\, Clearfork\, 5049 Edwards Ranch Rd\, Fort Worth\, TX\, 76109\, United States
CATEGORIES:Executive Committee
ATTACH;FMTTYPE=image/png:https://leadershipfortworth.org/wp-content/uploads/2022/06/2.png
END:VEVENT
BEGIN:VEVENT
DTSTART;TZID=America/Chicago:20230424T120000
DTEND;TZID=America/Chicago:20230424T133000
DTSTAMP:20260421T074620
CREATED:20220623T062646Z
LAST-MODIFIED:20220719T203826Z
UID:10000053-1682337600-1682343000@leadershipfortworth.org
SUMMARY:Executive Committee Meeting
DESCRIPTION:
URL:https://leadershipfortworth.org/event/executive-committee-meeting-6
LOCATION:Leadership Fort Worth\, Clearfork\, 5049 Edwards Ranch Rd\, Fort Worth\, TX\, 76109\, United States
CATEGORIES:Executive Committee
ATTACH;FMTTYPE=image/png:https://leadershipfortworth.org/wp-content/uploads/2022/06/2.png
END:VEVENT
BEGIN:VEVENT
DTSTART;TZID=America/Chicago:20230227T000000
DTEND;TZID=America/Chicago:20230227T133000
DTSTAMP:20260421T074620
CREATED:20220623T062026Z
LAST-MODIFIED:20220719T203339Z
UID:10000014-1677456000-1677504600@leadershipfortworth.org
SUMMARY:Executive Committee Meeting
DESCRIPTION:
URL:https://leadershipfortworth.org/event/executive-committee-meeting-5
LOCATION:Leadership Fort Worth\, Clearfork\, 5049 Edwards Ranch Rd\, Fort Worth\, TX\, 76109\, United States
CATEGORIES:Executive Committee
ATTACH;FMTTYPE=image/png:https://leadershipfortworth.org/wp-content/uploads/2022/06/2.png
END:VEVENT
BEGIN:VEVENT
DTSTART;TZID=America/Chicago:20221226T100000
DTEND;TZID=America/Chicago:20221226T133000
DTSTAMP:20260421T074620
CREATED:20220623T015604Z
LAST-MODIFIED:20220719T203226Z
UID:10000062-1672048800-1672061400@leadershipfortworth.org
SUMMARY:Executive Committee Meeting
DESCRIPTION:
URL:https://leadershipfortworth.org/event/executive-committee-meeting-4
LOCATION:Leadership Fort Worth\, Clearfork\, 5049 Edwards Ranch Rd\, Fort Worth\, TX\, 76109\, United States
CATEGORIES:Executive Committee
ATTACH;FMTTYPE=image/png:https://leadershipfortworth.org/wp-content/uploads/2022/06/2.png
END:VEVENT
BEGIN:VEVENT
DTSTART;TZID=America/Chicago:20221024T120000
DTEND;TZID=America/Chicago:20221024T133000
DTSTAMP:20260421T074620
CREATED:20220623T014840Z
LAST-MODIFIED:20220719T202655Z
UID:10000061-1666612800-1666618200@leadershipfortworth.org
SUMMARY:Executive Committee Meeting
DESCRIPTION:
URL:https://leadershipfortworth.org/event/executive-committee-meeting-3
LOCATION:Leadership Fort Worth\, Clearfork\, 5049 Edwards Ranch Rd\, Fort Worth\, TX\, 76109\, United States
CATEGORIES:Executive Committee
ATTACH;FMTTYPE=image/png:https://leadershipfortworth.org/wp-content/uploads/2022/06/2.png
END:VEVENT
BEGIN:VEVENT
DTSTART;TZID=America/Chicago:20220822T130000
DTEND;TZID=America/Chicago:20220822T133000
DTSTAMP:20260421T074620
CREATED:20220622T115715Z
LAST-MODIFIED:20220719T202508Z
UID:10000015-1661173200-1661175000@leadershipfortworth.org
SUMMARY:Executive Committee Meeting
DESCRIPTION:
URL:https://leadershipfortworth.org/event/executive-committee-meeting-2
LOCATION:Leadership Fort Worth\, Clearfork\, 5049 Edwards Ranch Rd\, Fort Worth\, TX\, 76109\, United States
CATEGORIES:Executive Committee
ATTACH;FMTTYPE=image/png:https://leadershipfortworth.org/wp-content/uploads/2022/06/2.png
END:VEVENT
BEGIN:VEVENT
DTSTART;TZID=America/Chicago:20220627T120000
DTEND;TZID=America/Chicago:20220627T133000
DTSTAMP:20260421T074620
CREATED:20220622T110148Z
LAST-MODIFIED:20220713T183141Z
UID:10000018-1656331200-1656336600@leadershipfortworth.org
SUMMARY:Executive Committee Meeting
DESCRIPTION:
URL:https://leadershipfortworth.org/event/executive-committee-meeting
LOCATION:Leadership Fort Worth\, Clearfork\, 5049 Edwards Ranch Rd\, Fort Worth\, TX\, 76109\, United States
CATEGORIES:Executive Committee
ATTACH;FMTTYPE=image/png:https://leadershipfortworth.org/wp-content/uploads/2022/06/Board-Meeting-5.png
END:VEVENT
END:VCALENDAR