BEGIN:VCALENDAR
VERSION:2.0
PRODID:-//Leadership Fort Worth - ECPv6.15.20//NONSGML v1.0//EN
CALSCALE:GREGORIAN
METHOD:PUBLISH
X-WR-CALNAME:Leadership Fort Worth
X-ORIGINAL-URL:https://leadershipfortworth.org
X-WR-CALDESC:Events for Leadership Fort Worth
REFRESH-INTERVAL;VALUE=DURATION:PT1H
X-Robots-Tag:noindex
X-PUBLISHED-TTL:PT1H
BEGIN:VTIMEZONE
TZID:America/Chicago
BEGIN:DAYLIGHT
TZOFFSETFROM:-0600
TZOFFSETTO:-0500
TZNAME:CDT
DTSTART:20210314T080000
END:DAYLIGHT
BEGIN:STANDARD
TZOFFSETFROM:-0500
TZOFFSETTO:-0600
TZNAME:CST
DTSTART:20211107T070000
END:STANDARD
BEGIN:DAYLIGHT
TZOFFSETFROM:-0600
TZOFFSETTO:-0500
TZNAME:CDT
DTSTART:20220313T080000
END:DAYLIGHT
BEGIN:STANDARD
TZOFFSETFROM:-0500
TZOFFSETTO:-0600
TZNAME:CST
DTSTART:20221106T070000
END:STANDARD
BEGIN:DAYLIGHT
TZOFFSETFROM:-0600
TZOFFSETTO:-0500
TZNAME:CDT
DTSTART:20230312T080000
END:DAYLIGHT
BEGIN:STANDARD
TZOFFSETFROM:-0500
TZOFFSETTO:-0600
TZNAME:CST
DTSTART:20231105T070000
END:STANDARD
BEGIN:DAYLIGHT
TZOFFSETFROM:-0600
TZOFFSETTO:-0500
TZNAME:CDT
DTSTART:20240310T080000
END:DAYLIGHT
BEGIN:STANDARD
TZOFFSETFROM:-0500
TZOFFSETTO:-0600
TZNAME:CST
DTSTART:20241103T070000
END:STANDARD
END:VTIMEZONE
BEGIN:VEVENT
DTSTART;TZID=America/Chicago:20230809T173000
DTEND;TZID=America/Chicago:20230809T193000
DTSTAMP:20260421T110837
CREATED:20230719T062901Z
LAST-MODIFIED:20230719T062901Z
UID:10000042-1691602200-1691609400@leadershipfortworth.org
SUMMARY:Alumni Mixer at THSW
DESCRIPTION:Mix and mingle with current and former program participants! Appetizers will be provided. Share with your classmates to join! \nFree for 2023-2024 dues-paying alumni members and Legacy Leaders\n$20 for alumni \n 
URL:https://leadershipfortworth.org/event/alumni-mixer-at-thsw
LOCATION:Texas Health Southwest\, 6100 Harris Pkwy\, Fort Worth\, TEXAS\, 76132
CATEGORIES:Events,LFW Alumni Association
ATTACH;FMTTYPE=image/png:https://leadershipfortworth.org/wp-content/uploads/2023/07/THR-SOCIAL-1.png
END:VEVENT
BEGIN:VEVENT
DTSTART;TZID=America/Chicago:20230713T170000
DTEND;TZID=America/Chicago:20230713T190000
DTSTAMP:20260421T110837
CREATED:20230623T170347Z
LAST-MODIFIED:20230629T060853Z
UID:10000068-1689267600-1689274800@leadershipfortworth.org
SUMMARY:Generations in the Workforce with MiShon Landry
DESCRIPTION:In this session participants will understand multigenerational workplaces and the generational gap\, which is the difference of outlook\, opinions\, beliefs\, skills\, attitudes\, and behaviors among the older generations and the younger generations. \nTo successfully bridge the generation gap in organizations\, maintain harmony and productivity within teams\, one must be attuned to the drivers\, preferences\, aspirations\, and strengths and weaknesses of each generation. Understanding how various individuals like to be recognized and rewarded is critical for knowing how to get the best out of each person. The participants will also gain an understanding of what attributes to Inclusive + Equitable™ Leadership as well as methods of fostering an Inclusive + Equitable™ Leadership Culture which allows individuals to not only respect differences in the workplace\, but also how to hold each other responsible for their actions. \nIn this session we aim to achieve multi-generational organizational success by providing tools and resources that enable participants to understand and deploy motivators for each generation. Being intentional about helping individuals abandon negative stereotypes and bias\, by recognizing the value that each different generation brings to the table. \n  \nObjectives: \n▪ Create a Culture of Empowerment \n▪ Expand Awareness and Alignment \n▪ Use an Inclusion and Equity Lens to Improve Results \n▪ Foster Positive Behaviors and Traits of Inclusion \n▪ Engaging and Interactive Program \n  \nAgenda: \n5:00-5:30 PM registration & networking \n5:30-6:30 PM workshop \n6:30-7:00 PM networking \nLight refreshments provided \nFree parking
URL:https://leadershipfortworth.org/event/generations-in-the-workforce-with-mishon-landry
LOCATION:One Safe Place\, 1100 Hemphill St\, Fort Worth\, Texas\, 76104
CATEGORIES:Events,LeadershipForum,LFW Alumni Association
ATTACH;FMTTYPE=image/png:https://leadershipfortworth.org/wp-content/uploads/2023/06/GEN-IN-THE-WF-WITH-MISHON-1.png
END:VEVENT
BEGIN:VEVENT
DTSTART;TZID=America/Chicago:20230608T110000
DTEND;TZID=America/Chicago:20230608T130000
DTSTAMP:20260421T110837
CREATED:20220712T010730Z
LAST-MODIFIED:20230313T160943Z
UID:10000049-1686222000-1686229200@leadershipfortworth.org
SUMMARY:50th Anniversary Celebration
DESCRIPTION:
URL:https://leadershipfortworth.org/event/leadershipimpact-50th-anniversary
LOCATION:The Aston Depot\, 1501 Jones St\, Fort Worth\, Texas\, 76105
CATEGORIES:Events
ATTACH;FMTTYPE=image/png:https://leadershipfortworth.org/wp-content/uploads/2022/07/celebrating-50-years.png
END:VEVENT
BEGIN:VEVENT
DTSTART;VALUE=DATE:20221007
DTEND;VALUE=DATE:20221008
DTSTAMP:20260421T110837
CREATED:20220712T010310Z
LAST-MODIFIED:20220907T213759Z
UID:10000048-1665100800-1665187199@leadershipfortworth.org
SUMMARY:Pull for Leadership
DESCRIPTION:
URL:https://leadershipfortworth.org/event/pull-for-leadership
LOCATION:Alpine Shooting Range\, 5482 Shelby Rd\, Fort Worth\, 76140
CATEGORIES:Events
ATTACH;FMTTYPE=image/jpeg:https://leadershipfortworth.org/wp-content/uploads/2022/08/Pull-for-Leadership-640-×-480-px-1640-×-942-px.jpg
END:VEVENT
END:VCALENDAR