BEGIN:VCALENDAR
VERSION:2.0
PRODID:-//Leadership Fort Worth - ECPv6.15.20//NONSGML v1.0//EN
CALSCALE:GREGORIAN
METHOD:PUBLISH
X-ORIGINAL-URL:https://leadershipfortworth.org
X-WR-CALDESC:Events for Leadership Fort Worth
REFRESH-INTERVAL;VALUE=DURATION:PT1H
X-Robots-Tag:noindex
X-PUBLISHED-TTL:PT1H
BEGIN:VTIMEZONE
TZID:America/Chicago
BEGIN:DAYLIGHT
TZOFFSETFROM:-0600
TZOFFSETTO:-0500
TZNAME:CDT
DTSTART:20210314T080000
END:DAYLIGHT
BEGIN:STANDARD
TZOFFSETFROM:-0500
TZOFFSETTO:-0600
TZNAME:CST
DTSTART:20211107T070000
END:STANDARD
BEGIN:DAYLIGHT
TZOFFSETFROM:-0600
TZOFFSETTO:-0500
TZNAME:CDT
DTSTART:20220313T080000
END:DAYLIGHT
BEGIN:STANDARD
TZOFFSETFROM:-0500
TZOFFSETTO:-0600
TZNAME:CST
DTSTART:20221106T070000
END:STANDARD
BEGIN:DAYLIGHT
TZOFFSETFROM:-0600
TZOFFSETTO:-0500
TZNAME:CDT
DTSTART:20230312T080000
END:DAYLIGHT
BEGIN:STANDARD
TZOFFSETFROM:-0500
TZOFFSETTO:-0600
TZNAME:CST
DTSTART:20231105T070000
END:STANDARD
BEGIN:DAYLIGHT
TZOFFSETFROM:-0600
TZOFFSETTO:-0500
TZNAME:CDT
DTSTART:20240310T080000
END:DAYLIGHT
BEGIN:STANDARD
TZOFFSETFROM:-0500
TZOFFSETTO:-0600
TZNAME:CST
DTSTART:20241103T070000
END:STANDARD
BEGIN:DAYLIGHT
TZOFFSETFROM:-0600
TZOFFSETTO:-0500
TZNAME:CDT
DTSTART:20250309T080000
END:DAYLIGHT
BEGIN:STANDARD
TZOFFSETFROM:-0500
TZOFFSETTO:-0600
TZNAME:CST
DTSTART:20251102T070000
END:STANDARD
END:VTIMEZONE
BEGIN:VEVENT
DTSTART;TZID=America/Chicago:20241018T083000
DTEND;TZID=America/Chicago:20241018T140000
DTSTAMP:20260425T121853
CREATED:20240924T031803Z
LAST-MODIFIED:20240924T031803Z
UID:10000078-1729240200-1729260000@leadershipfortworth.org
SUMMARY:Pull for Leadership 2024
DESCRIPTION:Annual Pull for Leadership sporting clay event\nYou won’t want to miss this great opportunity on\nOctober 18\, 2024 from 8:30 AM – 2:00 PM to show your support for\nLeadership Fort Worth and safely interact outdoors with other\nsupporters! Event proceeds support LFW programs.
URL:https://leadershipfortworth.org/event/pull-for-leadership-2024
LOCATION:Alpine Shooting Range\, 5482 Shelby Rd\, Fort Worth\, 76140
ATTACH;FMTTYPE=image/png:https://leadershipfortworth.org/wp-content/uploads/2024/05/featured-events-p4l.png
END:VEVENT
BEGIN:VEVENT
DTSTART;TZID=America/Chicago:20231020T083000
DTEND;TZID=America/Chicago:20231020T140000
DTSTAMP:20260425T121853
CREATED:20221122T163339Z
LAST-MODIFIED:20231009T143334Z
UID:10000052-1697790600-1697810400@leadershipfortworth.org
SUMMARY:Pull for Leadership 2023
DESCRIPTION:
URL:https://leadershipfortworth.org/event/pull-for-leadership-2023
LOCATION:Alpine Shooting Range\, 5482 Shelby Rd\, Fort Worth\, 76140
ATTACH;FMTTYPE=image/png:https://leadershipfortworth.org/wp-content/uploads/2023/07/featured-events-p4l.png
END:VEVENT
BEGIN:VEVENT
DTSTART;VALUE=DATE:20221007
DTEND;VALUE=DATE:20221008
DTSTAMP:20260425T121853
CREATED:20220712T010310Z
LAST-MODIFIED:20220907T213759Z
UID:10000048-1665100800-1665187199@leadershipfortworth.org
SUMMARY:Pull for Leadership
DESCRIPTION:
URL:https://leadershipfortworth.org/event/pull-for-leadership
LOCATION:Alpine Shooting Range\, 5482 Shelby Rd\, Fort Worth\, 76140
CATEGORIES:Events
ATTACH;FMTTYPE=image/jpeg:https://leadershipfortworth.org/wp-content/uploads/2022/08/Pull-for-Leadership-640-×-480-px-1640-×-942-px.jpg
END:VEVENT
END:VCALENDAR