BEGIN:VCALENDAR
VERSION:2.0
PRODID:-//Leadership Fort Worth - ECPv6.15.20//NONSGML v1.0//EN
CALSCALE:GREGORIAN
METHOD:PUBLISH
X-ORIGINAL-URL:https://leadershipfortworth.org
X-WR-CALDESC:Events for Leadership Fort Worth
REFRESH-INTERVAL;VALUE=DURATION:PT1H
X-Robots-Tag:noindex
X-PUBLISHED-TTL:PT1H
BEGIN:VTIMEZONE
TZID:America/Chicago
BEGIN:DAYLIGHT
TZOFFSETFROM:-0600
TZOFFSETTO:-0500
TZNAME:CDT
DTSTART:20230312T080000
END:DAYLIGHT
BEGIN:STANDARD
TZOFFSETFROM:-0500
TZOFFSETTO:-0600
TZNAME:CST
DTSTART:20231105T070000
END:STANDARD
BEGIN:DAYLIGHT
TZOFFSETFROM:-0600
TZOFFSETTO:-0500
TZNAME:CDT
DTSTART:20240310T080000
END:DAYLIGHT
BEGIN:STANDARD
TZOFFSETFROM:-0500
TZOFFSETTO:-0600
TZNAME:CST
DTSTART:20241103T070000
END:STANDARD
BEGIN:DAYLIGHT
TZOFFSETFROM:-0600
TZOFFSETTO:-0500
TZNAME:CDT
DTSTART:20250309T080000
END:DAYLIGHT
BEGIN:STANDARD
TZOFFSETFROM:-0500
TZOFFSETTO:-0600
TZNAME:CST
DTSTART:20251102T070000
END:STANDARD
END:VTIMEZONE
BEGIN:VEVENT
DTSTART;TZID=America/Chicago:20240515T180000
DTEND;TZID=America/Chicago:20240515T200000
DTSTAMP:20260425T204006
CREATED:20240418T032648Z
LAST-MODIFIED:20240419T164544Z
UID:10000076-1715796000-1715803200@leadershipfortworth.org
SUMMARY:Alumni Mixer at Heirloom
DESCRIPTION:Mix and mingle with LFW alumni at Heirloom Garden Cafe within the beautiful setting of Archie’s Gardenland. Indulge in a delicious menu created for LFW by one of the city’s most well-known and most talented chefs\, Kevin Martinez (also an LFW alumnus\, LC22!) \nLog in for Alumni Association pricing \n$35 for Active Alumni Association Members and current program participants \n$0 for Legacy Leaders \n$50 for non active LFW program graduates \nEvent Details \nBYOB – we will be providing water and other non-alcoholic drinks \nThe event will occur rain or shine. \nIf you have any dietary restrictions please let us know asap!
URL:https://leadershipfortworth.org/event/alumni-mixer-at-heirloom
LOCATION:Heirloom at Archies Gardenland\, 6700 Z Boaz Place\, Fort Worth\, TX\, 76116\, United States
ATTACH;FMTTYPE=image/png:https://leadershipfortworth.org/wp-content/uploads/2024/04/Alumni-Mixer-at-Heirloom-1-1.png
END:VEVENT
END:VCALENDAR