BEGIN:VCALENDAR
VERSION:2.0
PRODID:-//Leadership Fort Worth - ECPv6.15.20//NONSGML v1.0//EN
CALSCALE:GREGORIAN
METHOD:PUBLISH
X-ORIGINAL-URL:https://leadershipfortworth.org
X-WR-CALDESC:Events for Leadership Fort Worth
REFRESH-INTERVAL;VALUE=DURATION:PT1H
X-Robots-Tag:noindex
X-PUBLISHED-TTL:PT1H
BEGIN:VTIMEZONE
TZID:America/Chicago
BEGIN:DAYLIGHT
TZOFFSETFROM:-0600
TZOFFSETTO:-0500
TZNAME:CDT
DTSTART:20220313T080000
END:DAYLIGHT
BEGIN:STANDARD
TZOFFSETFROM:-0500
TZOFFSETTO:-0600
TZNAME:CST
DTSTART:20221106T070000
END:STANDARD
BEGIN:DAYLIGHT
TZOFFSETFROM:-0600
TZOFFSETTO:-0500
TZNAME:CDT
DTSTART:20230312T080000
END:DAYLIGHT
BEGIN:STANDARD
TZOFFSETFROM:-0500
TZOFFSETTO:-0600
TZNAME:CST
DTSTART:20231105T070000
END:STANDARD
BEGIN:DAYLIGHT
TZOFFSETFROM:-0600
TZOFFSETTO:-0500
TZNAME:CDT
DTSTART:20240310T080000
END:DAYLIGHT
BEGIN:STANDARD
TZOFFSETFROM:-0500
TZOFFSETTO:-0600
TZNAME:CST
DTSTART:20241103T070000
END:STANDARD
END:VTIMEZONE
BEGIN:VEVENT
DTSTART;TZID=America/Chicago:20230926T170000
DTEND;TZID=America/Chicago:20230926T190000
DTSTAMP:20260420T232053
CREATED:20230629T061210Z
LAST-MODIFIED:20230716T190615Z
UID:10000069-1695747600-1695754800@leadershipfortworth.org
SUMMARY:LeadingEdge 2024 Recruiting Social
DESCRIPTION:Join us as we search for the members of LeadingEdge 2024 at our Recruiting Social! \nMeet with LeadingEdge alumni\, Leadership Fort Worth Board\, and staff members\, along with community leaders to learn more about how YOU can be part of the next LeadingEdge cohort.
URL:https://leadershipfortworth.org/event/leadingedge-2024-recruiting-social
LOCATION:RSM – Clearfork\, 5128 Apache Plume Road Suite 200\, Fort Worth\, TX\, 76109\, United States
ATTACH;FMTTYPE=image/png:https://leadershipfortworth.org/wp-content/uploads/2023/06/LE24-SOCIAL.png
END:VEVENT
END:VCALENDAR