BEGIN:VCALENDAR
VERSION:2.0
PRODID:-//Leadership Fort Worth - ECPv6.15.20//NONSGML v1.0//EN
CALSCALE:GREGORIAN
METHOD:PUBLISH
X-ORIGINAL-URL:https://leadershipfortworth.org
X-WR-CALDESC:Events for Leadership Fort Worth
REFRESH-INTERVAL;VALUE=DURATION:PT1H
X-Robots-Tag:noindex
X-PUBLISHED-TTL:PT1H
BEGIN:VTIMEZONE
TZID:America/Chicago
BEGIN:DAYLIGHT
TZOFFSETFROM:-0600
TZOFFSETTO:-0500
TZNAME:CDT
DTSTART:20230312T080000
END:DAYLIGHT
BEGIN:STANDARD
TZOFFSETFROM:-0500
TZOFFSETTO:-0600
TZNAME:CST
DTSTART:20231105T070000
END:STANDARD
BEGIN:DAYLIGHT
TZOFFSETFROM:-0600
TZOFFSETTO:-0500
TZNAME:CDT
DTSTART:20240310T080000
END:DAYLIGHT
BEGIN:STANDARD
TZOFFSETFROM:-0500
TZOFFSETTO:-0600
TZNAME:CST
DTSTART:20241103T070000
END:STANDARD
BEGIN:DAYLIGHT
TZOFFSETFROM:-0600
TZOFFSETTO:-0500
TZNAME:CDT
DTSTART:20250309T080000
END:DAYLIGHT
BEGIN:STANDARD
TZOFFSETFROM:-0500
TZOFFSETTO:-0600
TZNAME:CST
DTSTART:20251102T070000
END:STANDARD
END:VTIMEZONE
BEGIN:VEVENT
DTSTART;TZID=America/Chicago:20240423T173000
DTEND;TZID=America/Chicago:20240423T193000
DTSTAMP:20260425T222118
CREATED:20240307T222720Z
LAST-MODIFIED:20240411T151035Z
UID:10000073-1713893400-1713900600@leadershipfortworth.org
SUMMARY:LC25 Recruiting Social
DESCRIPTION:Join us as we search for the members of LeadershipClass 2025 at our Recruiting Social! \nMeet with LeadershipClass alumni\, Leadership Fort Worth Board and staff members\, along with community leaders to learn more about how YOU can be part of the next LeadershipClass.
URL:https://leadershipfortworth.org/event/lc25-recruiting-social
LOCATION:The First Tee of Fort Worth\, 1900 Rockwood Park Dr N\, Fort Worth\, 76114
ATTACH;FMTTYPE=image/png:https://leadershipfortworth.org/wp-content/uploads/2024/03/LC25-SOCIAL.png
END:VEVENT
END:VCALENDAR