BEGIN:VCALENDAR
VERSION:2.0
PRODID:-//Leadership Fort Worth - ECPv6.15.20//NONSGML v1.0//EN
CALSCALE:GREGORIAN
METHOD:PUBLISH
X-ORIGINAL-URL:https://leadershipfortworth.org
X-WR-CALDESC:Events for Leadership Fort Worth
REFRESH-INTERVAL;VALUE=DURATION:PT1H
X-Robots-Tag:noindex
X-PUBLISHED-TTL:PT1H
BEGIN:VTIMEZONE
TZID:America/Chicago
BEGIN:DAYLIGHT
TZOFFSETFROM:-0600
TZOFFSETTO:-0500
TZNAME:CDT
DTSTART:20230312T080000
END:DAYLIGHT
BEGIN:STANDARD
TZOFFSETFROM:-0500
TZOFFSETTO:-0600
TZNAME:CST
DTSTART:20231105T070000
END:STANDARD
BEGIN:DAYLIGHT
TZOFFSETFROM:-0600
TZOFFSETTO:-0500
TZNAME:CDT
DTSTART:20240310T080000
END:DAYLIGHT
BEGIN:STANDARD
TZOFFSETFROM:-0500
TZOFFSETTO:-0600
TZNAME:CST
DTSTART:20241103T070000
END:STANDARD
BEGIN:DAYLIGHT
TZOFFSETFROM:-0600
TZOFFSETTO:-0500
TZNAME:CDT
DTSTART:20250309T080000
END:DAYLIGHT
BEGIN:STANDARD
TZOFFSETFROM:-0500
TZOFFSETTO:-0600
TZNAME:CST
DTSTART:20251102T070000
END:STANDARD
END:VTIMEZONE
BEGIN:VEVENT
DTSTART;TZID=America/Chicago:20241107T173000
DTEND;TZID=America/Chicago:20241107T193000
DTSTAMP:20260425T185622
CREATED:20241003T200023Z
LAST-MODIFIED:20241101T174611Z
UID:10000079-1731000600-1731007800@leadershipfortworth.org
SUMMARY:Alumni Party
DESCRIPTION:We’re excited to invite you to celebrate another year of creativity and connection! Join us for our Annual Alumni Party\, where you can reconnect with fellow graduates from across the decades. \nDate: Thursday\, November 7th\nTime: 5:30 – 7:30 PM\nLocation: Wed Spaces 1612 Park Pl Ave\, Fort Worth\, TX 76110 \nEnjoy an evening filled with inspiring conversations and delicious refreshments! This is a wonderful opportunity to network and celebrate our vibrant community. Our 2024 Alumni Party is free for Legacy Leaders members to attend\, $30 for current 2024-2025 LFW Alumni Association members (including LeadershipClass 2025!) and $50 for LFW alumni and community members. Free parking will be available to all attendees. Reserve your spot today!
URL:https://leadershipfortworth.org/event/alumni-party-2
LOCATION:Wed Spaces\, 1612 Park Pl Ave\, Fort Worth\, 76110
ATTACH;FMTTYPE=image/png:https://leadershipfortworth.org/wp-content/uploads/2024/10/aumni-party-2024-e1727988263203.png
END:VEVENT
END:VCALENDAR